BEGIN:VCALENDAR
VERSION:2.0
PRODID:spatie/icalendar-generator
DESCRIPTION:Events from KAYAKFISH
X-WR-CALDESC:Events from KAYAKFISH
REFRESH-INTERVAL;VALUE=DURATION:PT1440M
X-PUBLISHED-TTL:PT1440M
BEGIN:VTIMEZONE
TZID:Africa/Johannesburg
BEGIN:STANDARD
DTSTART:20201221T000000Z
TZOFFSETFROM:+0200
TZOFFSETTO:+0200
END:STANDARD
END:VTIMEZONE
BEGIN:VTIMEZONE
TZID:UTC
BEGIN:STANDARD
DTSTART:20250725T085437Z
TZOFFSETFROM:+0000
TZOFFSETTO:+0000
END:STANDARD
END:VTIMEZONE
BEGIN:VEVENT
UID:10-10
DTSTAMP:20260421T085437Z
SUMMARY:Samuel
LOCATION:
ORGANIZER;CN=Kowus Pelser:MAILTO:kowus@kayakfish.co.za
DTSTART;TZID=Africa/Johannesburg;VALUE=DATE:20210917
DTEND;TZID=Africa/Johannesburg;VALUE=DATE:20210920
X-ALT-DESC;FMTTYPE=TEXT/HTML:
CATEGORIES:Fusion 480 Yellow + Fish Finder
URL;VALUE=URI:https://sandbox.thefisherman.co.za/mc-events/samuel/?mc_id=10
END:VEVENT
END:VCALENDAR